BEGIN:VCALENDAR
VERSION:2.0
PRODID:-//jEvents 2.0 for Joomla//EN
CALSCALE:GREGORIAN
METHOD:PUBLISH
BEGIN:VEVENT
UID:3gq0hjml6oitooilut1p118qkb@google.com
CATEGORIES:Googlekalender
CREATED:20260303T191509
SUMMARY:Bürgersaal Belegungsplan - Spielgruppe - Regina Willer
LOCATION:Bernhardstraße 35, 84097, Herrngiersdorf, Deutschland
DESCRIPTION;ENCODING=QUOTED-PRINTABLE:
DTSTAMP:20260426T035719Z
DTSTART:20260401T070000Z
DTEND:20260401T090000Z
SEQUENCE:0
TRANSP:OPAQUE
END:VEVENT
END:VCALENDAR